BEGIN:VCALENDAR
VERSION:2.0
PRODID:-//The Kafafian Group, Inc - ECPv6.15.20//NONSGML v1.0//EN
CALSCALE:GREGORIAN
METHOD:PUBLISH
X-WR-CALNAME:The Kafafian Group, Inc
X-ORIGINAL-URL:https://kafafiangroup.com
X-WR-CALDESC:Events for The Kafafian Group, Inc
REFRESH-INTERVAL;VALUE=DURATION:PT1H
X-Robots-Tag:noindex
X-PUBLISHED-TTL:PT1H
BEGIN:VTIMEZONE
TZID:America/New_York
BEGIN:DAYLIGHT
TZOFFSETFROM:-0500
TZOFFSETTO:-0400
TZNAME:EDT
DTSTART:20190310T070000
END:DAYLIGHT
BEGIN:STANDARD
TZOFFSETFROM:-0400
TZOFFSETTO:-0500
TZNAME:EST
DTSTART:20191103T060000
END:STANDARD
BEGIN:DAYLIGHT
TZOFFSETFROM:-0500
TZOFFSETTO:-0400
TZNAME:EDT
DTSTART:20200308T070000
END:DAYLIGHT
BEGIN:STANDARD
TZOFFSETFROM:-0400
TZOFFSETTO:-0500
TZNAME:EST
DTSTART:20201101T060000
END:STANDARD
BEGIN:DAYLIGHT
TZOFFSETFROM:-0500
TZOFFSETTO:-0400
TZNAME:EDT
DTSTART:20210314T070000
END:DAYLIGHT
BEGIN:STANDARD
TZOFFSETFROM:-0400
TZOFFSETTO:-0500
TZNAME:EST
DTSTART:20211107T060000
END:STANDARD
END:VTIMEZONE
BEGIN:VEVENT
DTSTART;VALUE=DATE:20200209
DTEND;VALUE=DATE:20200213
DTSTAMP:20260421T075247
CREATED:20191202T212205Z
LAST-MODIFIED:20191223T144355Z
UID:5550-1581206400-1581551999@kafafiangroup.com
SUMMARY:ABA Conference for Community Bankers
DESCRIPTION:Topic:\nJeff Marsico Moderator for CEO Peer Exchange and Deposit Growth Strategies Sessions
URL:https://kafafiangroup.com/event/aba-conference-for-community-bankers-2/
LOCATION:Omni Orlando Resort\, Orlando\, FL\, United States
CATEGORIES:Conferences, Conventions & Other Events,Speaking and Teaching Engagements
END:VEVENT
BEGIN:VEVENT
DTSTART;VALUE=DATE:20200210
DTEND;VALUE=DATE:20200215
DTSTAMP:20260421T075247
CREATED:20191209T185935Z
LAST-MODIFIED:20200117T170144Z
UID:5562-1581292800-1581724799@kafafiangroup.com
SUMMARY:S&P Global Market Intelligence Bank Executive Leadership Program
DESCRIPTION:Topic\nPreparing for and Executing Bank M&A Transaction Speaker: Richard Trauger
URL:https://kafafiangroup.com/event/sp-global-market-intelligence-bank-executive-leadership-program/
LOCATION:University of Virginia Darden School of Business\, Charlottesville\, VA\, United States
CATEGORIES:Speaking and Teaching Engagements
END:VEVENT
END:VCALENDAR