BEGIN:VCALENDAR
VERSION:2.0
PRODID:-//The Kafafian Group, Inc - ECPv6.15.20//NONSGML v1.0//EN
CALSCALE:GREGORIAN
METHOD:PUBLISH
X-WR-CALNAME:The Kafafian Group, Inc
X-ORIGINAL-URL:https://kafafiangroup.com
X-WR-CALDESC:Events for The Kafafian Group, Inc
REFRESH-INTERVAL;VALUE=DURATION:PT1H
X-Robots-Tag:noindex
X-PUBLISHED-TTL:PT1H
BEGIN:VTIMEZONE
TZID:America/New_York
BEGIN:DAYLIGHT
TZOFFSETFROM:-0500
TZOFFSETTO:-0400
TZNAME:EDT
DTSTART:20190310T070000
END:DAYLIGHT
BEGIN:STANDARD
TZOFFSETFROM:-0400
TZOFFSETTO:-0500
TZNAME:EST
DTSTART:20191103T060000
END:STANDARD
BEGIN:DAYLIGHT
TZOFFSETFROM:-0500
TZOFFSETTO:-0400
TZNAME:EDT
DTSTART:20200308T070000
END:DAYLIGHT
BEGIN:STANDARD
TZOFFSETFROM:-0400
TZOFFSETTO:-0500
TZNAME:EST
DTSTART:20201101T060000
END:STANDARD
BEGIN:DAYLIGHT
TZOFFSETFROM:-0500
TZOFFSETTO:-0400
TZNAME:EDT
DTSTART:20210314T070000
END:DAYLIGHT
BEGIN:STANDARD
TZOFFSETFROM:-0400
TZOFFSETTO:-0500
TZNAME:EST
DTSTART:20211107T060000
END:STANDARD
END:VTIMEZONE
BEGIN:VEVENT
DTSTART;VALUE=DATE:20200929
DTEND;VALUE=DATE:20201003
DTSTAMP:20260421T062722
CREATED:20200929T185113Z
LAST-MODIFIED:20200929T185134Z
UID:6579-1601337600-1601683199@kafafiangroup.com
SUMMARY:Tennessee Bankers Association CFO Forum
DESCRIPTION:Topic: Earning Your Way to Independence\nSpeakers: Jeff Marsico and Rich Trauger
URL:https://kafafiangroup.com/event/tennessee-bankers-association-cfo-forum/
LOCATION:Tennessee – Virtual\, TN\, United States
CATEGORIES:Speaking and Teaching Engagements
END:VEVENT
BEGIN:VEVENT
DTSTART;VALUE=DATE:20200930
DTEND;VALUE=DATE:20201003
DTSTAMP:20260421T062722
CREATED:20200911T133636Z
LAST-MODIFIED:20200911T135424Z
UID:6515-1601424000-1601683199@kafafiangroup.com
SUMMARY:Independent Bankers Association of New York Convention - Virtually Un-Conventional
DESCRIPTION:Topic: Culture and Strategy: Is the Pandemic an Opportunity to Create Alignment?\nSpeaker: Jeff Marsico
URL:https://kafafiangroup.com/event/independent-bankers-association-of-new-york-virtually-un-conventional/
LOCATION:Virtual NY\, NY\, United States
CATEGORIES:Speaking and Teaching Engagements
END:VEVENT
BEGIN:VEVENT
DTSTART;VALUE=DATE:20201019
DTEND;VALUE=DATE:20201021
DTSTAMP:20260421T062722
CREATED:20200505T162417Z
LAST-MODIFIED:20200714T140205Z
UID:6033-1603065600-1603238399@kafafiangroup.com
SUMMARY:American Bankers Association Unconventional Convention
DESCRIPTION:Virtual Convention
URL:https://kafafiangroup.com/event/american-bankers-association-annual-convention-2/
LOCATION:John B. Hynes Veterans Memorial Convention Center\, Boston\, MA\, United States
CATEGORIES:Conferences, Conventions & Other Events
END:VEVENT
BEGIN:VEVENT
DTSTART;VALUE=DATE:20201021
DTEND;VALUE=DATE:20201022
DTSTAMP:20260421T062722
CREATED:20200923T193315Z
LAST-MODIFIED:20200923T201146Z
UID:6544-1603238400-1603324799@kafafiangroup.com
SUMMARY:FMS NY/NJ October Meeting - Virtual
DESCRIPTION:October Meeting
URL:https://kafafiangroup.com/event/fms-ny-nj-october-meeting-virtual/
LOCATION:Virtual NJ\, NJ\, United States
CATEGORIES:Conferences, Conventions & Other Events
END:VEVENT
BEGIN:VEVENT
DTSTART;VALUE=DATE:20201021
DTEND;VALUE=DATE:20201023
DTSTAMP:20260421T062722
CREATED:20201007T182457Z
LAST-MODIFIED:20201007T182457Z
UID:6601-1603238400-1603411199@kafafiangroup.com
SUMMARY:Utah Bankers Association Executive Development Program
DESCRIPTION:Topic: Bank Profitability\nSpeaker: Jeffrey P. Marsico
URL:https://kafafiangroup.com/event/utah-bankers-association-executive-development-program-8/
LOCATION:California
CATEGORIES:Speaking and Teaching Engagements
END:VEVENT
BEGIN:VEVENT
DTSTART;VALUE=DATE:20201025
DTEND;VALUE=DATE:20201029
DTSTAMP:20260421T062722
CREATED:20200505T162828Z
LAST-MODIFIED:20200911T192123Z
UID:6037-1603584000-1603929599@kafafiangroup.com
SUMMARY:**Canceled** New York Bankers Association Financial Services Forum
DESCRIPTION:Annual Convention
URL:https://kafafiangroup.com/event/new-york-bankers-association-financial-services-forum-5/
LOCATION:The Ritz Carlton\, Naples\, FL\, United States
CATEGORIES:Conferences, Conventions & Other Events
END:VEVENT
BEGIN:VEVENT
DTSTART;VALUE=DATE:20201027
DTEND;VALUE=DATE:20201028
DTSTAMP:20260421T062722
CREATED:20201007T182933Z
LAST-MODIFIED:20201007T183413Z
UID:6604-1603756800-1603843199@kafafiangroup.com
SUMMARY:Montana Bankers Association Executive Development Program
DESCRIPTION:Topic: Bank Profitability\nSpeaker: Jeffrey P. Marsico
URL:https://kafafiangroup.com/event/montana-bankers-association-executive-development-program-7/
LOCATION:Big Falls\,Montana\, United States
END:VEVENT
BEGIN:VEVENT
DTSTART;VALUE=DATE:20201027
DTEND;VALUE=DATE:20201028
DTSTAMP:20260421T062722
CREATED:20201007T185405Z
LAST-MODIFIED:20201007T185405Z
UID:6615-1603756800-1603843199@kafafiangroup.com
SUMMARY:Massachusetts Bankers Association Fall Directors & Trustees Program
DESCRIPTION:Topic: Culture & Strategy: Is the Pandemic an Opportunity to Create Alignment?\nSpeaker: Jeffrey P. Marsico
URL:https://kafafiangroup.com/event/massachusetts-bankers-association-fall-directors-trustees-program/
LOCATION:Virtual MA\, MA\, United States
CATEGORIES:Speaking and Teaching Engagements
END:VEVENT
END:VCALENDAR